BEGIN:VCALENDAR
VERSION:2.0
PRODID:-//Dominicains de Lyon - ECPv6.15.20//NONSGML v1.0//EN
CALSCALE:GREGORIAN
METHOD:PUBLISH
X-ORIGINAL-URL:https://dominicains-lyon.fr
X-WR-CALDESC:Évènements pour Dominicains de Lyon
REFRESH-INTERVAL;VALUE=DURATION:PT1H
X-Robots-Tag:noindex
X-PUBLISHED-TTL:PT1H
BEGIN:VTIMEZONE
TZID:Europe/Paris
BEGIN:DAYLIGHT
TZOFFSETFROM:+0100
TZOFFSETTO:+0200
TZNAME:CEST
DTSTART:20240331T010000
END:DAYLIGHT
BEGIN:STANDARD
TZOFFSETFROM:+0200
TZOFFSETTO:+0100
TZNAME:CET
DTSTART:20241027T010000
END:STANDARD
BEGIN:DAYLIGHT
TZOFFSETFROM:+0100
TZOFFSETTO:+0200
TZNAME:CEST
DTSTART:20250330T010000
END:DAYLIGHT
BEGIN:STANDARD
TZOFFSETFROM:+0200
TZOFFSETTO:+0100
TZNAME:CET
DTSTART:20251026T010000
END:STANDARD
BEGIN:DAYLIGHT
TZOFFSETFROM:+0100
TZOFFSETTO:+0200
TZNAME:CEST
DTSTART:20260329T010000
END:DAYLIGHT
BEGIN:STANDARD
TZOFFSETFROM:+0200
TZOFFSETTO:+0100
TZNAME:CET
DTSTART:20261025T010000
END:STANDARD
END:VTIMEZONE
BEGIN:VEVENT
DTSTART;TZID=Europe/Paris:20251201T200000
DTEND;TZID=Europe/Paris:20251201T213000
DTSTAMP:20260425T023244
CREATED:20251025T212513Z
LAST-MODIFIED:20251025T212513Z
UID:2434-1764619200-1764624600@dominicains-lyon.fr
SUMMARY:DIEU + LA DIPLOMATIE
DESCRIPTION:Pour ne plus rien ignorer du fonctionnement de la fascinante diplomatie vaticane. \ndominicains
URL:https://dominicains-lyon.fr/event/dieu-la-diplomatie/
LOCATION:Cave des dominicains\, 93 rue tête d'Or\, Lyon\, 69006
END:VEVENT
BEGIN:VEVENT
DTSTART;TZID=Europe/Paris:20251215T200000
DTEND;TZID=Europe/Paris:20251215T220000
DTSTAMP:20260425T023244
CREATED:20251116T170018Z
LAST-MODIFIED:20251124T133755Z
UID:2442-1765828800-1765836000@dominicains-lyon.fr
SUMMARY:LA CAVE THOMISTE - La béatitude consiste-t-elle dans les richesses ?
DESCRIPTION:Apéro et discussion conviviale autour d’un texte de Thomas d’Aquin\, pour étudiants et jeunes pros en quête de sagesse philosophique et théologique. \ndominicains
URL:https://dominicains-lyon.fr/event/cave-thomiste-la-beatitude-consiste-t-elle-dans-les-richesses/
LOCATION:Cave des dominicains\, 93 rue tête d'Or\, Lyon\, 69006
ORGANIZER;CN="Fr%C3%A8re Simon Lessard":MAILTO:simlessard@gmail.com
END:VEVENT
END:VCALENDAR