BEGIN:VCALENDAR
VERSION:2.0
PRODID:-//Dominicains de Lyon - ECPv6.15.20//NONSGML v1.0//EN
CALSCALE:GREGORIAN
METHOD:PUBLISH
X-ORIGINAL-URL:https://dominicains-lyon.fr
X-WR-CALDESC:Évènements pour Dominicains de Lyon
REFRESH-INTERVAL;VALUE=DURATION:PT1H
X-Robots-Tag:noindex
X-PUBLISHED-TTL:PT1H
BEGIN:VTIMEZONE
TZID:Europe/Paris
BEGIN:DAYLIGHT
TZOFFSETFROM:+0100
TZOFFSETTO:+0200
TZNAME:CEST
DTSTART:20240331T010000
END:DAYLIGHT
BEGIN:STANDARD
TZOFFSETFROM:+0200
TZOFFSETTO:+0100
TZNAME:CET
DTSTART:20241027T010000
END:STANDARD
BEGIN:DAYLIGHT
TZOFFSETFROM:+0100
TZOFFSETTO:+0200
TZNAME:CEST
DTSTART:20250330T010000
END:DAYLIGHT
BEGIN:STANDARD
TZOFFSETFROM:+0200
TZOFFSETTO:+0100
TZNAME:CET
DTSTART:20251026T010000
END:STANDARD
BEGIN:DAYLIGHT
TZOFFSETFROM:+0100
TZOFFSETTO:+0200
TZNAME:CEST
DTSTART:20260329T010000
END:DAYLIGHT
BEGIN:STANDARD
TZOFFSETFROM:+0200
TZOFFSETTO:+0100
TZNAME:CET
DTSTART:20261025T010000
END:STANDARD
END:VTIMEZONE
BEGIN:VEVENT
DTSTART;VALUE=DATE:20250925
DTEND;VALUE=DATE:20250927
DTSTAMP:20260424T223057
CREATED:20250918T090650Z
LAST-MODIFIED:20250918T090827Z
UID:2392-1758758400-1758931199@dominicains-lyon.fr
SUMMARY:Découvrir les moniales dominicaines
DESCRIPTION:Toutes les informations sont sur l’image. \ndominicains
URL:https://dominicains-lyon.fr/event/decouvrir-les-moniales-dominicaines/
LOCATION:Monastère de Chalais\, 4581 Rte de Chalais\, Voreppe\, 38340\, France
END:VEVENT
END:VCALENDAR