BEGIN:VCALENDAR
VERSION:2.0
PRODID:-//Dominicains de Lyon - ECPv6.15.20//NONSGML v1.0//EN
CALSCALE:GREGORIAN
METHOD:PUBLISH
X-WR-CALNAME:Dominicains de Lyon
X-ORIGINAL-URL:https://dominicains-lyon.fr
X-WR-CALDESC:Évènements pour Dominicains de Lyon
REFRESH-INTERVAL;VALUE=DURATION:PT1H
X-Robots-Tag:noindex
X-PUBLISHED-TTL:PT1H
BEGIN:VTIMEZONE
TZID:Europe/Paris
BEGIN:DAYLIGHT
TZOFFSETFROM:+0100
TZOFFSETTO:+0200
TZNAME:CEST
DTSTART:20240331T010000
END:DAYLIGHT
BEGIN:STANDARD
TZOFFSETFROM:+0200
TZOFFSETTO:+0100
TZNAME:CET
DTSTART:20241027T010000
END:STANDARD
BEGIN:DAYLIGHT
TZOFFSETFROM:+0100
TZOFFSETTO:+0200
TZNAME:CEST
DTSTART:20250330T010000
END:DAYLIGHT
BEGIN:STANDARD
TZOFFSETFROM:+0200
TZOFFSETTO:+0100
TZNAME:CET
DTSTART:20251026T010000
END:STANDARD
BEGIN:DAYLIGHT
TZOFFSETFROM:+0100
TZOFFSETTO:+0200
TZNAME:CEST
DTSTART:20260329T010000
END:DAYLIGHT
BEGIN:STANDARD
TZOFFSETFROM:+0200
TZOFFSETTO:+0100
TZNAME:CET
DTSTART:20261025T010000
END:STANDARD
END:VTIMEZONE
BEGIN:VEVENT
DTSTART;TZID=Europe/Paris:20250517T090000
DTEND;TZID=Europe/Paris:20250517T120000
DTSTAMP:20260424T194500
CREATED:20240927T101407Z
LAST-MODIFIED:20250417T072319Z
UID:2048-1747472400-1747483200@dominicains-lyon.fr
SUMMARY:Religion et politique au XXe siècle
DESCRIPTION:Les frères dominicains invitent des universitaires lyonnais à partager leurs réflexions sur le thème « religion(s) dans la cité » au couvent du Saint Nom de Jésus\, avec exposés\, tables rondes et échanges. \nAvec la participation de : \n\nThierry Gontier (Lyon III) : Regards contemporains sur l’augustinisme politique (C.Schmitt\, E.Voegelin\, E.Peterson)\nEmmanuel Gabellieri (UCLy) : Inspiration religieuse en politique: E.Voegelin\, S.Weil et J.Maritain\nPeter Wirtz (EM Lyon) : L’Eglise catholique aux origines de l’économie sociale de marché de la jeune RFA\n\n\n\n\n\ndominicains
URL:https://dominicains-lyon.fr/event/religions-dans-le-cite-regards-croises-duniversitaires-lyonnais-3-3/
LOCATION:Couvent du Saint-Nom-de-Jésus\, 93 rue Tête d’Or\, Lyon\, 69006\, France
CATEGORIES:Cycle "L'université au couvent"
ATTACH;FMTTYPE=image/png:https://dominicains-lyon.fr/wp-content/uploads/2024/09/Screenshot-2025-04-17-at-07.13.09.png
END:VEVENT
BEGIN:VEVENT
DTSTART;TZID=Europe/Paris:20250520T203000
DTEND;TZID=Europe/Paris:20250520T213000
DTSTAMP:20260424T194500
CREATED:20250414T134903Z
LAST-MODIFIED:20250414T135347Z
UID:2261-1747773000-1747776600@dominicains-lyon.fr
SUMMARY:Quelle profusion dans tes œuvres ? Théologie de la Création et écologie
DESCRIPTION:Des psaumes de la création à la biodiversité. \nLa sollicitude de Dieu ne concerne pas seulement les humains\, mais aussi les animaux et toute la création. Dieu a mis un ordre dans la nature qui doit être respecté. Au vu des capacités destructrices dont l’humanité dispose désormais\, préserver cet ordre est devenu surtout une responsabilité pour chacun d’entre nous\, pas seulement morale ou économique\, mais aussi théologique. \n  \nInfos pratiques\n« Quelle profusion dans tes œuvres ? » par Frère Marc Bellion et Père Bertrand Pinçon \nMardi 20 mai 2025\, à 20h30\, au Couvent du Saint Nom de Jésus\, 93 rue Tête d’Or\, Lyon 6 \ndominicains
URL:https://dominicains-lyon.fr/event/quelle-profusion-dans-tes-oeuvres-theologie-de-la-creation-et-ecologie/
LOCATION:Cave des dominicains\, 93 rue tête d'Or\, Lyon\, 69006
ATTACH;FMTTYPE=image/jpeg:https://dominicains-lyon.fr/wp-content/uploads/2025/04/Affiche-Lyon-Cave-des-Dom.jpg
END:VEVENT
BEGIN:VEVENT
DTSTART;TZID=Europe/Paris:20250524T163000
DTEND;TZID=Europe/Paris:20250524T200000
DTSTAMP:20260424T194500
CREATED:20241015T184450Z
LAST-MODIFIED:20250515T061656Z
UID:2117-1748104200-1748116800@dominicains-lyon.fr
SUMMARY:Fête de saint Dominique
DESCRIPTION:A l’occasion de la Translation du corps de saint Dominique\, la communauté des frères dominciains vous propose un programme dédié. \n  \n16h30 : concert-lecture (dans l’église) \nJ.S. Bach – Cantate « Ich habe genung »\, BWV 82 \nLecture choisie sur saint Dominique \nF. Mendelssohn – Vespergesang « Adspice Domine »\, Op. 121 \n  \nCocktail dans le jardin du cloître à l’issue \ndominicains
URL:https://dominicains-lyon.fr/event/fete-de-la-st-dominique/
LOCATION:Couvent du Saint-Nom-de-Jésus\, 93 rue Tête d’Or\, Lyon\, 69006\, France
ATTACH;FMTTYPE=image/png:https://dominicains-lyon.fr/wp-content/uploads/2024/10/Green-Gold-Contemporary-Classy-Traditional-Graduation-Invitation.png
END:VEVENT
END:VCALENDAR