BEGIN:VCALENDAR
VERSION:2.0
PRODID:-//Dominicains de Lyon - ECPv6.15.20//NONSGML v1.0//EN
CALSCALE:GREGORIAN
METHOD:PUBLISH
X-ORIGINAL-URL:https://dominicains-lyon.fr
X-WR-CALDESC:Évènements pour Dominicains de Lyon
REFRESH-INTERVAL;VALUE=DURATION:PT1H
X-Robots-Tag:noindex
X-PUBLISHED-TTL:PT1H
BEGIN:VTIMEZONE
TZID:Europe/Paris
BEGIN:DAYLIGHT
TZOFFSETFROM:+0100
TZOFFSETTO:+0200
TZNAME:CEST
DTSTART:20240331T010000
END:DAYLIGHT
BEGIN:STANDARD
TZOFFSETFROM:+0200
TZOFFSETTO:+0100
TZNAME:CET
DTSTART:20241027T010000
END:STANDARD
BEGIN:DAYLIGHT
TZOFFSETFROM:+0100
TZOFFSETTO:+0200
TZNAME:CEST
DTSTART:20250330T010000
END:DAYLIGHT
BEGIN:STANDARD
TZOFFSETFROM:+0200
TZOFFSETTO:+0100
TZNAME:CET
DTSTART:20251026T010000
END:STANDARD
BEGIN:DAYLIGHT
TZOFFSETFROM:+0100
TZOFFSETTO:+0200
TZNAME:CEST
DTSTART:20260329T010000
END:DAYLIGHT
BEGIN:STANDARD
TZOFFSETFROM:+0200
TZOFFSETTO:+0100
TZNAME:CET
DTSTART:20261025T010000
END:STANDARD
END:VTIMEZONE
BEGIN:VEVENT
DTSTART;TZID=Europe/Paris:20250303T180000
DTEND;TZID=Europe/Paris:20250303T193000
DTSTAMP:20260424T171837
CREATED:20241015T184033Z
LAST-MODIFIED:20250414T092548Z
UID:2114-1741024800-1741030200@dominicains-lyon.fr
SUMMARY:Conférence spirituelle : Sainte Catherine de Sienne
DESCRIPTION:Conférence spirituelle sur Ste. Catherine de Sienne par le frère Ambrosius\, étudiant. La conférence sera suivie par la célébration des vêpres dans l’église avec la communauté des frères dominicains. \nQui est frère Ambrosius Paulsson ? \nLe frère Ambrosius Paulsson\, 31 ans\, est suédo-américain. Après des études d’histoire en Suède\, il choisit de rejoindre l’Ordre des Prêcheurs (Dominicains) en 2021. Il poursuit actuellement sa formation en philosophie et en théologie à Lyon\, au sein de la Province dominicaine de France. \ndominicains
URL:https://dominicains-lyon.fr/event/conference-spirituelle-ste-catherine-de-sienne/
LOCATION:Couvent du Saint-Nom-de-Jésus\, 93 rue Tête d’Or\, Lyon\, 69006\, France
ATTACH;FMTTYPE=image/webp:https://dominicains-lyon.fr/wp-content/uploads/2024/10/372px-catherine-siena-0-article_0.webp
END:VEVENT
END:VCALENDAR