BEGIN:VCALENDAR
VERSION:2.0
PRODID:-//Dominicains de Lyon - ECPv6.15.20//NONSGML v1.0//EN
CALSCALE:GREGORIAN
METHOD:PUBLISH
X-WR-CALNAME:Dominicains de Lyon
X-ORIGINAL-URL:https://dominicains-lyon.fr
X-WR-CALDESC:Évènements pour Dominicains de Lyon
REFRESH-INTERVAL;VALUE=DURATION:PT1H
X-Robots-Tag:noindex
X-PUBLISHED-TTL:PT1H
BEGIN:VTIMEZONE
TZID:Europe/Paris
BEGIN:DAYLIGHT
TZOFFSETFROM:+0100
TZOFFSETTO:+0200
TZNAME:CEST
DTSTART:20240331T010000
END:DAYLIGHT
BEGIN:STANDARD
TZOFFSETFROM:+0200
TZOFFSETTO:+0100
TZNAME:CET
DTSTART:20241027T010000
END:STANDARD
BEGIN:DAYLIGHT
TZOFFSETFROM:+0100
TZOFFSETTO:+0200
TZNAME:CEST
DTSTART:20250330T010000
END:DAYLIGHT
BEGIN:STANDARD
TZOFFSETFROM:+0200
TZOFFSETTO:+0100
TZNAME:CET
DTSTART:20251026T010000
END:STANDARD
BEGIN:DAYLIGHT
TZOFFSETFROM:+0100
TZOFFSETTO:+0200
TZNAME:CEST
DTSTART:20260329T010000
END:DAYLIGHT
BEGIN:STANDARD
TZOFFSETFROM:+0200
TZOFFSETTO:+0100
TZNAME:CET
DTSTART:20261025T010000
END:STANDARD
END:VTIMEZONE
BEGIN:VEVENT
DTSTART;TZID=Europe/Paris:20250204T170000
DTEND;TZID=Europe/Paris:20250204T200000
DTSTAMP:20260424T153448
CREATED:20250110T105314Z
LAST-MODIFIED:20250110T105314Z
UID:2233-1738688400-1738699200@dominicains-lyon.fr
SUMMARY:Hommage à Gustavo Gutiérrez Merino\, OP
DESCRIPTION:dominicains
URL:https://dominicains-lyon.fr/event/hommage-a-gustavo-gutierrez-merino-op/
LOCATION:Couvent du Saint-Nom-de-Jésus\, 93 rue Tête d’Or\, Lyon\, 69006\, France
ATTACH;FMTTYPE=image/png:https://dominicains-lyon.fr/wp-content/uploads/2025/01/Screenshot-2025-01-10-at-11.51.15.png
END:VEVENT
BEGIN:VEVENT
DTSTART;TZID=Europe/Paris:20250215T090000
DTEND;TZID=Europe/Paris:20250215T120000
DTSTAMP:20260424T153448
CREATED:20240927T101244Z
LAST-MODIFIED:20241117T200244Z
UID:2046-1739610000-1739620800@dominicains-lyon.fr
SUMMARY:Défendre les religieux et la religion dans la cité ? Saint Thomas d'Aquin et Blaise Pascal
DESCRIPTION:Avec la participation de : \n\n\n\n\n\nVincent Aubin : Les religieux ont-ils leur place à l’Université ? Saint Thomas sur le droit des religieux mendiants à devenir professeurs\nLaurent Thirouin (Lyon II) : Pourquoi Pascal ne pouvait pas écrire une apologie de la religion chrétienne\n\n\n\n\n\ndominicains
URL:https://dominicains-lyon.fr/event/religions-dans-le-cite-regards-croises-duniversitaires-lyonnais-2-3/
LOCATION:Couvent du Saint-Nom-de-Jésus\, 93 rue Tête d’Or\, Lyon\, 69006\, France
CATEGORIES:Cycle "L'université au couvent"
ATTACH;FMTTYPE=image/png:https://dominicains-lyon.fr/wp-content/uploads/2024/09/Screenshot-2024-10-12-at-15.33.45.png
END:VEVENT
END:VCALENDAR