BEGIN:VCALENDAR
VERSION:2.0
PRODID:-//Dominicains de Lyon - ECPv6.15.20//NONSGML v1.0//EN
CALSCALE:GREGORIAN
METHOD:PUBLISH
X-ORIGINAL-URL:https://dominicains-lyon.fr
X-WR-CALDESC:Évènements pour Dominicains de Lyon
REFRESH-INTERVAL;VALUE=DURATION:PT1H
X-Robots-Tag:noindex
X-PUBLISHED-TTL:PT1H
BEGIN:VTIMEZONE
TZID:Europe/Paris
BEGIN:DAYLIGHT
TZOFFSETFROM:+0100
TZOFFSETTO:+0200
TZNAME:CEST
DTSTART:20230326T010000
END:DAYLIGHT
BEGIN:STANDARD
TZOFFSETFROM:+0200
TZOFFSETTO:+0100
TZNAME:CET
DTSTART:20231029T010000
END:STANDARD
BEGIN:DAYLIGHT
TZOFFSETFROM:+0100
TZOFFSETTO:+0200
TZNAME:CEST
DTSTART:20240331T010000
END:DAYLIGHT
BEGIN:STANDARD
TZOFFSETFROM:+0200
TZOFFSETTO:+0100
TZNAME:CET
DTSTART:20241027T010000
END:STANDARD
BEGIN:DAYLIGHT
TZOFFSETFROM:+0100
TZOFFSETTO:+0200
TZNAME:CEST
DTSTART:20250330T010000
END:DAYLIGHT
BEGIN:STANDARD
TZOFFSETFROM:+0200
TZOFFSETTO:+0100
TZNAME:CET
DTSTART:20251026T010000
END:STANDARD
END:VTIMEZONE
BEGIN:VEVENT
DTSTART;TZID=Europe/Paris:20241019T090000
DTEND;TZID=Europe/Paris:20241019T120000
DTSTAMP:20260424T095134
CREATED:20240927T101104Z
LAST-MODIFIED:20241017T100155Z
UID:2043-1729328400-1729339200@dominicains-lyon.fr
SUMMARY:Cité de Dieu et cité des hommes : saint Augustin\, les théologiens de Charlemagne\, saint Bernard de Clairvaux
DESCRIPTION:Avec la participation de : \n\nLaurent Lavaud (ENS Lyon) : Deux amours\, deux cités: la cité des hommes et la cité de Dieu selon Saint Augustin\nMarie-Céline Isaïa (Lyon III) : Les Carolingiens\, une invention de la laïcité\nLaurence Mellerin (CNRS) : Saint Bernard\, “chimère de son siècle”: l’engagement paradoxal d’un moine dans les affaires du monde\n\n\n\n\n\ndominicains
URL:https://dominicains-lyon.fr/event/religions-dans-le-cite-regards-croises-duniversitaires-lyonnais-1-3/
LOCATION:Couvent du Saint-Nom-de-Jésus\, 93 rue Tête d’Or\, Lyon\, 69006\, France
CATEGORIES:Cycle "L'université au couvent"
ATTACH;FMTTYPE=image/png:https://dominicains-lyon.fr/wp-content/uploads/2024/09/Screenshot-2024-10-12-at-15.33.45.png
END:VEVENT
END:VCALENDAR